BEGIN:VCALENDAR
VERSION:2.0
PRODID:-//saintaloysius.org//eCatholic//EN
X-WR-TIMEZONE:LocalTZ
BEGIN:VTIMEZONE
TZID:LocalTZ
X-LIC-LOCATION:LocalTZ
BEGIN:DAYLIGHT
TZOFFSETFROM:-0600
TZOFFSETTO:-0500
TZNAME:LocalTZ
DTSTART:19700308T020000
RRULE:FREQ=YEARLY;BYMONTH=3;BYDAY=2SU
END:DAYLIGHT
BEGIN:STANDARD
TZOFFSETFROM:-0500
TZOFFSETTO:-0600
TZNAME:LocalTZ
DTSTART:19701101T020000
RRULE:FREQ=YEARLY;BYMONTH=11;BYDAY=1SU
END:STANDARD
END:VTIMEZONE
BEGIN:VEVENT
UID:640183@saintaloysius.org
DTSTAMP:20260419T221427Z
DTSTART:20260419T070000
DTEND:20260419T080000
RRULE:FREQ=WEEKLY;BYDAY=SU
EXDATE:20171224T070000
SUMMARY:Mass
DESCRIPTION:Live streamed on Facebook
END:VEVENT
BEGIN:VEVENT
UID:640186@saintaloysius.org
DTSTAMP:20260419T221427Z
DTSTART:20260425T160000
DTEND:20260425T170000
RRULE:FREQ=WEEKLY;BYDAY=SA
EXDATE:20180331T160000,20190420T160000
SUMMARY:Mass
END:VEVENT
BEGIN:VEVENT
UID:640188@saintaloysius.org
DTSTAMP:20260419T221427Z
DTSTART:20260425T153000
DTEND:20260425T163000
RRULE:FREQ=WEEKLY;BYDAY=SA
EXDATE:20180331T153000,20190420T153000
SUMMARY:Confessions
DESCRIPTION:By appointment.
END:VEVENT
BEGIN:VEVENT
UID:640190@saintaloysius.org
DTSTAMP:20260419T221427Z
DTSTART:20260421T082000
DTEND:20260421T092000
RRULE:FREQ=WEEKLY;BYDAY=TU
EXDATE:20171226T082000,20180102T082000,20180109T082000,20180116T082000,201
 90423T082000
SUMMARY:Daily Mass
DESCRIPTION:Live streamed on Facebook
END:VEVENT
BEGIN:VEVENT
UID:640191@saintaloysius.org
DTSTAMP:20260419T221427Z
DTSTART:20260422T070000
DTEND:20260422T080000
RRULE:FREQ=WEEKLY;BYDAY=WE
EXDATE:20171227T070000,20180110T070000,20180117T070000,20180214T070000
SUMMARY:Daily Mass
DESCRIPTION:Live Streamed on Facebook
END:VEVENT
BEGIN:VEVENT
UID:640195@saintaloysius.org
DTSTAMP:20260419T221427Z
DTSTART:20260423T070000
DTEND:20260423T080000
RRULE:FREQ=WEEKLY;BYDAY=TH
EXDATE:20171123T070000,20180111T070000,20180118T070000,20180329T070000,201
 90418T070000
SUMMARY:Daily Mass
END:VEVENT
BEGIN:VEVENT
UID:640196@saintaloysius.org
DTSTAMP:20260419T221427Z
DTSTART:20260424T180000
DTEND:20260424T190000
RRULE:FREQ=WEEKLY;BYDAY=FR
EXDATE:20171124T180000,20180112T180000,20180119T180000,20180330T180000,201
 90419T180000
SUMMARY:Daily Mass
DESCRIPTION:Live streamed on Facebook
END:VEVENT
BEGIN:VEVENT
UID:640197@saintaloysius.org
DTSTAMP:20260419T221427Z
DTSTART:20260423T190000
DTEND:20260423T200000
RRULE:FREQ=WEEKLY;BYDAY=TH
EXDATE:20171123T190000,20180104T190000,20180329T190000,20190418T190000
SUMMARY:Adult Choir Practice
END:VEVENT
BEGIN:VEVENT
UID:640207@saintaloysius.org
DTSTAMP:20260419T221427Z
DTSTART:20260508T070000
DTEND:20260508T170000
RRULE:FREQ=MONTHLY;BYDAY=FR;BYSETPOS=2
SUMMARY:Adoration
END:VEVENT
BEGIN:VEVENT
UID:640209@saintaloysius.org
DTSTAMP:20260419T221427Z
DTSTART:20260501T070000
DTEND:20260501T000000
RRULE:FREQ=MONTHLY;BYDAY=FR;BYSETPOS=1
SUMMARY:First Friday Adoration
END:VEVENT
BEGIN:VEVENT
UID:640210@saintaloysius.org
DTSTAMP:20260419T221427Z
DTSTART:20260502T000000
DTEND:20260502T090000
RRULE:FREQ=MONTHLY;BYDAY=SA;BYSETPOS=1
SUMMARY:Benediction
END:VEVENT
BEGIN:VEVENT
UID:640211@saintaloysius.org
DTSTAMP:20260419T221427Z
DTSTART:20260425T103000
DTEND:20260425T143000
RRULE:FREQ=WEEKLY;BYDAY=SA
SUMMARY:Bingo at Charitas Hall
END:VEVENT
BEGIN:VEVENT
UID:640214@saintaloysius.org
DTSTAMP:20260419T221427Z
DTSTART:20260514T183000
DTEND:20260514T200000
RRULE:FREQ=MONTHLY;BYDAY=TH;BYSETPOS=2
EXDATE:20180111T183000
SUMMARY:School Board
END:VEVENT
BEGIN:VEVENT
UID:640215@saintaloysius.org
DTSTAMP:20260419T221427Z
DTSTART:20260421T183000
DTEND:20260421T200000
RRULE:FREQ=MONTHLY;BYDAY=TU;BYSETPOS=3
EXDATE:20171219T183000,20180116T183000,20180417T183000,20190416T183000
SUMMARY:Pastoral Council
END:VEVENT
BEGIN:VEVENT
UID:640216@saintaloysius.org
DTSTAMP:20260419T221427Z
DTSTART:20260428T183000
DTEND:20260428T200000
RRULE:FREQ=MONTHLY;BYDAY=TU;BYSETPOS=4
EXDATE:20171128T183000,20171226T183000
SUMMARY:Finance Council
END:VEVENT
BEGIN:VEVENT
UID:640217@saintaloysius.org
DTSTAMP:20260419T221427Z
DTSTART:20260514T183000
DTEND:20260514T220000
RRULE:FREQ=MONTHLY;BYDAY=TH;BYSETPOS=2
EXDATE:20180111T183000,20180208T183000,20180308T183000
SUMMARY:Women's Club
DESCRIPTION:All women of the parish are welcome! Business & Social
END:VEVENT
BEGIN:VEVENT
UID:640220@saintaloysius.org
DTSTAMP:20260419T221427Z
DTSTART:20260503T120000
DTEND:20260503T133000
RRULE:FREQ=MONTHLY;BYDAY=SU;BYSETPOS=1
EXDATE:20180107T120000
SUMMARY:Liturgy Committee
END:VEVENT
BEGIN:VEVENT
UID:640221@saintaloysius.org
DTSTAMP:20260419T221427Z
DTSTART:20260426T120000
DTEND:20260426T140000
RRULE:FREQ=MONTHLY;BYDAY=SU;BYSETPOS=4
EXDATE:20171224T120000
SUMMARY:Stewardship Committee
DESCRIPTION:not meeting during pandemic
END:VEVENT
BEGIN:VEVENT
UID:1739689@saintaloysius.org
DTSTAMP:20260419T221427Z
DTSTART:20260419T110000
DTEND:20260419T120000
RRULE:FREQ=WEEKLY;BYDAY=SU
SUMMARY:Mass
END:VEVENT
BEGIN:VEVENT
UID:3061030@saintaloysius.org
DTSTAMP:20260419T221427Z
DTSTART:20260420T163000
DTEND:20260420T173000
SUMMARY:JH Track @ Pawnee High School
END:VEVENT
BEGIN:VEVENT
UID:3061031@saintaloysius.org
DTSTAMP:20260419T221427Z
DTSTART:20260421T163000
DTEND:20260421T173000
SUMMARY:JH Track @ Riverton
END:VEVENT
BEGIN:VEVENT
UID:3061034@saintaloysius.org
DTSTAMP:20260419T221427Z
DTSTART:20260427T160000
DTEND:20260427T170000
SUMMARY:JH Track @ Illini Central Grade School
END:VEVENT
BEGIN:VEVENT
UID:3061035@saintaloysius.org
DTSTAMP:20260419T221427Z
DTSTART:20260502T090000
DTEND:20260502T100000
SUMMARY:JH Track @ Illini Central Middle School
END:VEVENT
BEGIN:VEVENT
UID:3061037@saintaloysius.org
DTSTAMP:20260419T221427Z
DTSTART:20260507T163000
DTEND:20260507T173000
SUMMARY:JH Track @ Athens Junior High School
END:VEVENT
END:VCALENDAR
